BEGIN:VCALENDAR
VERSION:2.0
PRODID:-//Biker Basics Rider Training - ECPv5.0.2.1//NONSGML v1.0//EN
CALSCALE:GREGORIAN
METHOD:PUBLISH
X-WR-CALNAME:Biker Basics Rider Training
X-ORIGINAL-URL:https://bikerbasics.com.au
X-WR-CALDESC:Events for Biker Basics Rider Training
BEGIN:VTIMEZONE
TZID:Europe/Paris
BEGIN:DAYLIGHT
TZOFFSETFROM:+0100
TZOFFSETTO:+0200
TZNAME:CEST
DTSTART:20170326T010000
END:DAYLIGHT
BEGIN:STANDARD
TZOFFSETFROM:+0200
TZOFFSETTO:+0100
TZNAME:CET
DTSTART:20171029T010000
END:STANDARD
END:VTIMEZONE
BEGIN:VEVENT
DTSTART;TZID=Europe/Paris:20170930T083000
DTEND;TZID=Europe/Paris:20170930T123000
DTSTAMP:20210226T172729
CREATED:20170908T102341Z
LAST-MODIFIED:20170928T011737Z
UID:327-1506760200-1506774600@bikerbasics.com.au
SUMMARY:R Class QRIDE
DESCRIPTION: \nR Class QRIDE (for unrestricted motorcycles). \n4 hours duration \nShort off-road exercise to warm up and re-inforce the basics \nFun 2.5 hr road ride with stops to discuss how to be a safer\, life long rider. \n1 hour of debriefing\, coaching and completing the paperwork to make you a licenced R class motorcyclist! \nCheck your eligibility here \nShareTweet\n            \n                \n            
URL:https://bikerbasics.com.au/event/r-class-qride/
LOCATION:Block behind the Sesame Lane Child Care Kippa-ring\, 36 Regency Crt\, Kippa-ring\, Queensland\, 4020\, Australia
CATEGORIES:R Class QRIDE
END:VEVENT
END:VCALENDAR