BEGIN:VCALENDAR
VERSION:2.0
PRODID:-//Biker Basics Rider Training - ECPv5.0.2.1//NONSGML v1.0//EN
CALSCALE:GREGORIAN
METHOD:PUBLISH
X-WR-CALNAME:Biker Basics Rider Training
X-ORIGINAL-URL:https://bikerbasics.com.au
X-WR-CALDESC:Events for Biker Basics Rider Training
BEGIN:VTIMEZONE
TZID:Europe/Paris
BEGIN:DAYLIGHT
TZOFFSETFROM:+0100
TZOFFSETTO:+0200
TZNAME:CEST
DTSTART:20170326T010000
END:DAYLIGHT
BEGIN:STANDARD
TZOFFSETFROM:+0200
TZOFFSETTO:+0100
TZNAME:CET
DTSTART:20171029T010000
END:STANDARD
END:VTIMEZONE
BEGIN:VEVENT
DTSTART;TZID=Europe/Paris:20171021T090000
DTEND;TZID=Europe/Paris:20171022T153000
DTSTAMP:20210226T172859
CREATED:20170925T075349Z
LAST-MODIFIED:20170926T232026Z
UID:351-1508576400-1508686200@bikerbasics.com.au
SUMMARY:Pre-Learner 21st and 22nd October - SOLD OUT
DESCRIPTION:PRE-LEARNER COURSE (12 hours) $400 full course\n \n\nThis is where you begin your motorcycling journey. \nYou will learn all the basics of riding a motorcycle safely and with control\, and introduce you to roadcraft concepts. \nAt the end of the course (spread over 2 – 4 days depending on your availability)\, you are eligible to sit the motorcycle knowledge test. \nSuccessful completion of the knowledge test and paying of the fee (prices listed on Transport website) will give you a Learner permit for Restricted (LAMS) motorcycles. (Learner licence rules here) \nShareTweet\n            \n                \n            
URL:https://bikerbasics.com.au/event/pre-learner-21st-and-22nd-october/
LOCATION:Block behind the Sesame Lane Child Care Kippa-ring\, 36 Regency Crt\, Kippa-ring\, Queensland\, 4020\, Australia
END:VEVENT
END:VCALENDAR